BEGIN:VCALENDAR
VERSION:2.0
PRODID:-//lovebus.org//NONSGML kigkonsult.se iCalcreator 2.30.10//
CALSCALE:GREGORIAN
METHOD:PUBLISH
UID:160bf212-8642-44ff-8cee-39e0ab87b0ea
X-WR-CALDESC:Este grupo se reúne cada dos miércoles de 7:00 a 8:00 de la ta
 rde. Está facilitado por nuestra Asociada de Programas Bilingüe\, Maria\, 
 y proporciona un espacio acogedor y seguro para que las madres y cuidadora
 s puedan apoyarse y compartir un poco de sus desafíos y de sus alegrías co
 n otras que entienden lo que viven. Para unirse al grupo\, envíe un mensaj
 e a maria@lovebus.org  Por favor\, tenga en cuenta que debe rellenar este 
 acuerdo antes de ser añadida al grupo de apoyo.
X-WR-RELCALID:f7bff5409604629e4d91a81129cfb376
X-WR-TIMEZONE:America/New_York
BEGIN:VTIMEZONE
TZID:America/New_York
BEGIN:STANDARD
TZNAME:EST
DTSTART:20251102T020000
TZOFFSETFROM:-0400
TZOFFSETTO:-0500
RDATE:20261101T020000
RDATE:20271107T020000
END:STANDARD
BEGIN:DAYLIGHT
TZNAME:EDT
DTSTART:20260308T020000
TZOFFSETFROM:-0500
TZOFFSETTO:-0400
RDATE:20270314T020000
END:DAYLIGHT
END:VTIMEZONE
BEGIN:VEVENT
UID:f2c162be-c1f2-4b75-bfd1-83d1c3a60a9e
DTSTAMP:20260421T042149Z
DESCRIPTION:Este grupo se reúne cada dos miércoles de 7:00 a 8:00 de la tar
 de. Está facilitado por nuestra Asociada de Programas Bilingüe\, Maria\, y
  proporciona un espacio acogedor y seguro para que las madres y cuidadoras
  puedan apoyarse y compartir un poco de sus desafíos y de sus alegrías con
  otras que entienden lo que viven. Para unirse al grupo\, envíe un mensaje
  a maria@lovebus.org  Por favor\, tenga en cuenta que debe rellenar este a
 cuerdo antes de ser añadida al grupo de apoyo.
DTSTART;TZID=America/New_York:20260527T190000
DTEND;TZID=America/New_York:20260527T200000
LOCATION:Virtual
SUMMARY:Grupo de apoyo virtual (en español)
END:VEVENT
END:VCALENDAR
