BEGIN:VCALENDAR
VERSION:2.0
PRODID:-//lovebus.org//NONSGML kigkonsult.se iCalcreator 2.30.10//
CALSCALE:GREGORIAN
METHOD:PUBLISH
UID:d8e15e7a-9ba4-44fe-b18f-7e4534bf87f8
X-WR-CALDESC:Join us at Ironstone Farm in Andover\, MA for a special and un
 ique equine-encounter program! Each month\, eight children (ages 6+) can r
 egister to take part in two farm experiences: a 60-minute grooming and Ass
 isted Trail Ride\, and a 60-minute Paddock session working with the horses
  in their natural habitat and playing equestrian games.
X-WR-RELCALID:2bba402fcb3f91ddf0b481ff13059a07
X-WR-TIMEZONE:America/New_York
BEGIN:VTIMEZONE
TZID:America/New_York
BEGIN:STANDARD
TZNAME:EST
DTSTART:20251102T020000
TZOFFSETFROM:-0400
TZOFFSETTO:-0500
RDATE:20261101T020000
RDATE:20271107T020000
END:STANDARD
BEGIN:DAYLIGHT
TZNAME:EDT
DTSTART:20260308T020000
TZOFFSETFROM:-0500
TZOFFSETTO:-0400
RDATE:20270314T020000
END:DAYLIGHT
END:VTIMEZONE
BEGIN:VEVENT
UID:524a5655-8d57-4468-a375-83b4eb823b25
DTSTAMP:20260421T042038Z
DESCRIPTION:Join us at Ironstone Farm in Andover\, MA for a special and uni
 que equine-encounter program! Each month\, eight children (ages 6+) can re
 gister to take part in two farm experiences: a 60-minute grooming and Assi
 sted Trail Ride\, and a 60-minute Paddock session working with the horses 
 in their natural habitat and playing equestrian games.
DTSTART;TZID=America/New_York:20260613T110000
DTEND;TZID=America/New_York:20260613T130000
LOCATION:Ironstone Farm\, 450 Lowell Street\, Andover\, MA 01810 US
SUMMARY:Equine Experience (ages 6+)
END:VEVENT
END:VCALENDAR
